BEGIN:VCALENDAR
VERSION:2.0
PRODID:-//AusschreibungsRadar//Timeline//DE
CALSCALE:GREGORIAN
METHOD:PUBLISH
X-WR-CALNAME:Projekt 6003-1 Sinsheim, GRN-Klinik, Neubau Funktionstrakt, Tischler
X-WR-TIMEZONE:Europe/Berlin
BEGIN:VEVENT
UID:d22f6e949f81b6a6@ausschreibungsradar.com
DTSTAMP:20260424T143739Z
DTSTART;VALUE=DATE:20250902
DTEND;VALUE=DATE:20250902
SUMMARY:Ausschreibung — 6003-1 Sinsheim\, GRN-Klinik\, Neubau Funktionstrakt\, Tischler
DESCRIPTION:Phase: Ausschreibung | Beschreibung: Offizielle Ausschreibung mit Bieterfrist. | Link: https://ausschreibungsradar.com/ausschreibung/24351766/
URL:https://ausschreibungsradar.com/ausschreibung/24351766/
END:VEVENT
BEGIN:VEVENT
UID:0d536bfa12143ba1@ausschreibungsradar.com
DTSTAMP:20260424T143739Z
DTSTART;VALUE=DATE:20250902
DTEND;VALUE=DATE:20250902
SUMMARY:Ausschreibung — 6003-1 Sinsheim\, GRN-Klinik\, Neubau Funktionstrakt\, Tischler
DESCRIPTION:Phase: Ausschreibung | Beschreibung: Offizielle Ausschreibung mit Bieterfrist. | Link: https://ausschreibungsradar.com/ausschreibung/24351758/
URL:https://ausschreibungsradar.com/ausschreibung/24351758/
END:VEVENT
BEGIN:VEVENT
UID:142e2b9216405bed@ausschreibungsradar.com
DTSTAMP:20260424T143739Z
DTSTART;VALUE=DATE:20250902
DTEND;VALUE=DATE:20250902
SUMMARY:Ausschreibung — 6003-1 Sinsheim\, GRN-Klinik\, Neubau Funktionstrakt\, Tischler
DESCRIPTION:Phase: Ausschreibung | Beschreibung: Offizielle Ausschreibung mit Bieterfrist. | Link: https://ausschreibungsradar.com/ausschreibung/24351762/
URL:https://ausschreibungsradar.com/ausschreibung/24351762/
END:VEVENT
BEGIN:VEVENT
UID:8f4cc23188828a2e@ausschreibungsradar.com
DTSTAMP:20260424T143739Z
DTSTART;VALUE=DATE:20250902
DTEND;VALUE=DATE:20250902
SUMMARY:Ausschreibung — 6003-1 Sinsheim\, GRN-Klinik\, Neubau Funktionstrakt\, Tischler
DESCRIPTION:Phase: Ausschreibung | Beschreibung: Offizielle Ausschreibung mit Bieterfrist. | Link: https://ausschreibungsradar.com/ausschreibung/24351754/
URL:https://ausschreibungsradar.com/ausschreibung/24351754/
END:VEVENT
END:VCALENDAR
