BEGIN:VCALENDAR
VERSION:2.0
PRODID:-//AusschreibungsRadar//Timeline//DE
CALSCALE:GREGORIAN
METHOD:PUBLISH
X-WR-CALNAME:Projekt Ufer- bzw. Böschungssicherungen am Reinhardtsdorfer Bach im 
X-WR-TIMEZONE:Europe/Berlin
BEGIN:VEVENT
UID:639caa64ebacb904@ausschreibungsradar.com
DTSTAMP:20260423T224409Z
DTSTART;VALUE=DATE:20250903
DTEND;VALUE=DATE:20250903
SUMMARY:Ausschreibung — Ufer- bzw. Böschungssicherungen am Reinhardtsdorfer Bach im 
DESCRIPTION:Phase: Ausschreibung | Beschreibung: Offizielle Ausschreibung mit Bieterfrist. | Link: https://ausschreibungsradar.com/ausschreibung/24354000/
URL:https://ausschreibungsradar.com/ausschreibung/24354000/
END:VEVENT
BEGIN:VEVENT
UID:af2982360da7b47d@ausschreibungsradar.com
DTSTAMP:20260423T224409Z
DTSTART;VALUE=DATE:20250904
DTEND;VALUE=DATE:20250904
SUMMARY:Ausschreibung — Ufer- bzw. Böschungssicherungen am Reinhardtsdorfer Bach im 
DESCRIPTION:Phase: Ausschreibung | Beschreibung: Offizielle Ausschreibung mit Bieterfrist. | Link: https://ausschreibungsradar.com/ausschreibung/24360272/
URL:https://ausschreibungsradar.com/ausschreibung/24360272/
END:VEVENT
END:VCALENDAR
