BEGIN:VCALENDAR
VERSION:2.0
PRODID:-//AusschreibungsRadar//Timeline//DE
CALSCALE:GREGORIAN
METHOD:PUBLISH
X-WR-CALNAME:Projekt Zügigkeitserweiterung Antonius-Schule: Rohbauarbeiten
X-WR-TIMEZONE:Europe/Berlin
BEGIN:VEVENT
UID:0d12849a7a85e432@ausschreibungsradar.com
DTSTAMP:20260424T180902Z
DTSTART;VALUE=DATE:20250811
DTEND;VALUE=DATE:20250811
SUMMARY:Ausschreibung — Zügigkeitserweiterung Antonius-Schule: Rohbauarbeiten
DESCRIPTION:Phase: Ausschreibung | Beschreibung: Offizielle Ausschreibung mit Bieterfrist. | Link: https://ausschreibungsradar.com/ausschreibung/24256192/
URL:https://ausschreibungsradar.com/ausschreibung/24256192/
END:VEVENT
BEGIN:VEVENT
UID:f67907ddfff4ff5e@ausschreibungsradar.com
DTSTAMP:20260424T180902Z
DTSTART;VALUE=DATE:20250903
DTEND;VALUE=DATE:20250903
SUMMARY:Ausschreibung — Zügigkeitserweiterung Antonius-Schule: Rohbauarbeiten
DESCRIPTION:Phase: Ausschreibung | Beschreibung: Offizielle Ausschreibung mit Bieterfrist. | Link: https://ausschreibungsradar.com/ausschreibung/24356820/
URL:https://ausschreibungsradar.com/ausschreibung/24356820/
END:VEVENT
END:VCALENDAR
