BEGIN:VCALENDAR
VERSION:2.0
PRODID:-//AusschreibungsRadar//Timeline//DE
CALSCALE:GREGORIAN
METHOD:PUBLISH
X-WR-CALNAME:Projekt Schwarzhofen : Generalsanierung der Dr.-von-Ringseis-Grundsc
X-WR-TIMEZONE:Europe/Berlin
BEGIN:VEVENT
UID:e328ac618ef2a203@ausschreibungsradar.com
DTSTAMP:20260425T023023Z
DTSTART;VALUE=DATE:20250916
DTEND;VALUE=DATE:20250916
SUMMARY:Ausschreibung — Schwarzhofen : Generalsanierung der Dr.-von-Ringseis-Grundsc
DESCRIPTION:Phase: Ausschreibung | Beschreibung: Offizielle Ausschreibung mit Bieterfrist. | Link: https://ausschreibungsradar.com/ausschreibung/24409824/
URL:https://ausschreibungsradar.com/ausschreibung/24409824/
END:VEVENT
BEGIN:VEVENT
UID:980ac9230927ec78@ausschreibungsradar.com
DTSTAMP:20260425T023023Z
DTSTART;VALUE=DATE:20250916
DTEND;VALUE=DATE:20250916
SUMMARY:Ausschreibung — Schwarzhofen : Generalsanierung der Dr.-von-Ringseis-Grundsc
DESCRIPTION:Phase: Ausschreibung | Beschreibung: Offizielle Ausschreibung mit Bieterfrist. | Link: https://ausschreibungsradar.com/ausschreibung/24409820/
URL:https://ausschreibungsradar.com/ausschreibung/24409820/
END:VEVENT
END:VCALENDAR
