BEGIN:VCALENDAR
VERSION:2.0
PRODID:-//AusschreibungsRadar//Timeline//DE
CALSCALE:GREGORIAN
METHOD:PUBLISH
X-WR-CALNAME:Projekt Sophie-Scholl-Gesamtschule (energetische Fassadensanierung, 
X-WR-TIMEZONE:Europe/Berlin
BEGIN:VEVENT
UID:14765457e4f9d0ec@ausschreibungsradar.com
DTSTAMP:20260424T061917Z
DTSTART;VALUE=DATE:20250902
DTEND;VALUE=DATE:20250902
SUMMARY:Ausschreibung — Sophie-Scholl-Gesamtschule (energetische Fassadensanierung\, 
DESCRIPTION:Phase: Ausschreibung | Beschreibung: Offizielle Ausschreibung mit Bieterfrist. | Link: https://ausschreibungsradar.com/ausschreibung/24352114/
URL:https://ausschreibungsradar.com/ausschreibung/24352114/
END:VEVENT
BEGIN:VEVENT
UID:3417a82e0bf00c47@ausschreibungsradar.com
DTSTAMP:20260424T061917Z
DTSTART;VALUE=DATE:20250917
DTEND;VALUE=DATE:20250917
SUMMARY:Ausschreibung — Sophie-Scholl-Gesamtschule (energetische Fassadensanierung\, 
DESCRIPTION:Phase: Ausschreibung | Beschreibung: Offizielle Ausschreibung mit Bieterfrist. | Link: https://ausschreibungsradar.com/ausschreibung/24415016/
URL:https://ausschreibungsradar.com/ausschreibung/24415016/
END:VEVENT
BEGIN:VEVENT
UID:e3cb19ec85251c72@ausschreibungsradar.com
DTSTAMP:20260424T061917Z
DTSTART;VALUE=DATE:20250918
DTEND;VALUE=DATE:20250918
SUMMARY:Ausschreibung — Sophie-Scholl-Gesamtschule (energetische Fassadensanierung\, 
DESCRIPTION:Phase: Ausschreibung | Beschreibung: Offizielle Ausschreibung mit Bieterfrist. | Link: https://ausschreibungsradar.com/ausschreibung/24420902/
URL:https://ausschreibungsradar.com/ausschreibung/24420902/
END:VEVENT
END:VCALENDAR
