BEGIN:VCALENDAR
VERSION:2.0
PRODID:-//AusschreibungsRadar//Timeline//DE
CALSCALE:GREGORIAN
METHOD:PUBLISH
X-WR-CALNAME:Projekt Neubau Sporthalle_Grundschulzentrum Kittlitz in 02708 Löbau 
X-WR-TIMEZONE:Europe/Berlin
BEGIN:VEVENT
UID:59e2b966d7c81eb7@ausschreibungsradar.com
DTSTAMP:20260425T133052Z
DTSTART;VALUE=DATE:20250918
DTEND;VALUE=DATE:20250918
SUMMARY:Ausschreibung — Neubau Sporthalle_Grundschulzentrum Kittlitz in 02708 Löbau 
DESCRIPTION:Phase: Ausschreibung | Beschreibung: Offizielle Ausschreibung mit Bieterfrist. | Link: https://ausschreibungsradar.com/ausschreibung/24416510/
URL:https://ausschreibungsradar.com/ausschreibung/24416510/
END:VEVENT
BEGIN:VEVENT
UID:1561a3ba756a31bd@ausschreibungsradar.com
DTSTAMP:20260425T133052Z
DTSTART;VALUE=DATE:20250918
DTEND;VALUE=DATE:20250918
SUMMARY:Ausschreibung — Neubau Sporthalle_Grundschulzentrum Kittlitz in 02708 Löbau 
DESCRIPTION:Phase: Ausschreibung | Beschreibung: Offizielle Ausschreibung mit Bieterfrist. | Link: https://ausschreibungsradar.com/ausschreibung/24416578/
URL:https://ausschreibungsradar.com/ausschreibung/24416578/
END:VEVENT
END:VCALENDAR
