BEGIN:VCALENDAR
VERSION:2.0
PRODID:-//AusschreibungsRadar//Timeline//DE
CALSCALE:GREGORIAN
METHOD:PUBLISH
X-WR-CALNAME:Projekt Arbeitsmedizinische Betreuung
X-WR-TIMEZONE:Europe/Berlin
BEGIN:VEVENT
UID:aaa4d64514fc93dd@ausschreibungsradar.com
DTSTAMP:20260426T005621Z
DTSTART;VALUE=DATE:20250910
DTEND;VALUE=DATE:20250910
SUMMARY:Ausschreibung — Arbeitsmedizinische Betreuung
DESCRIPTION:Phase: Ausschreibung | Beschreibung: Offizielle Ausschreibung mit Bieterfrist. | Link: https://ausschreibungsradar.com/ausschreibung/24382786/
URL:https://ausschreibungsradar.com/ausschreibung/24382786/
END:VEVENT
BEGIN:VEVENT
UID:46f16d66fa450232@ausschreibungsradar.com
DTSTAMP:20260426T005621Z
DTSTART;VALUE=DATE:20250919
DTEND;VALUE=DATE:20250919
SUMMARY:Ausschreibung — Arbeitsmedizinische Betreuung
DESCRIPTION:Phase: Ausschreibung | Beschreibung: Offizielle Ausschreibung mit Bieterfrist. | Link: https://ausschreibungsradar.com/ausschreibung/24422516/
URL:https://ausschreibungsradar.com/ausschreibung/24422516/
END:VEVENT
END:VCALENDAR
