BEGIN:VCALENDAR
VERSION:2.0
PRODID:-//AusschreibungsRadar//Timeline//DE
CALSCALE:GREGORIAN
METHOD:PUBLISH
X-WR-CALNAME:Projekt Erweiterung Mittelschule
X-WR-TIMEZONE:Europe/Berlin
BEGIN:VEVENT
UID:63d0642eaf77b2d1@ausschreibungsradar.com
DTSTAMP:20260424T152131Z
DTSTART;VALUE=DATE:20251209
DTEND;VALUE=DATE:20251209
SUMMARY:Angebotsfrist — Erweiterung Mittelschule
DESCRIPTION:Phase: Ausschreibung | Beschreibung: Angebote werden eingeholt | Link: https://ausschreibungsradar.com/ausschreibung/630b6dda-f4b3-484c-8d07-8e0f6d063e2b/
URL:https://ausschreibungsradar.com/ausschreibung/630b6dda-f4b3-484c-8d07-8e0f6d063e2b/
END:VEVENT
BEGIN:VEVENT
UID:1cff16f3560e49b1@ausschreibungsradar.com
DTSTAMP:20260424T152131Z
DTSTART;VALUE=DATE:20260317
DTEND;VALUE=DATE:20260317
SUMMARY:Ausschreibung — Erweiterung Mittelschule
DESCRIPTION:Phase: Ausschreibung | Beschreibung: Offizielle Ausschreibung mit Bieterfrist. | Link: https://ausschreibungsradar.com/ausschreibung/b51b7e8e-8c19-4583-87c9-e49a642aa550/
URL:https://ausschreibungsradar.com/ausschreibung/b51b7e8e-8c19-4583-87c9-e49a642aa550/
END:VEVENT
BEGIN:VEVENT
UID:47b5059ac2420fba@ausschreibungsradar.com
DTSTAMP:20260424T152131Z
DTSTART;VALUE=DATE:20260318
DTEND;VALUE=DATE:20260318
SUMMARY:Ausschreibung — Erweiterung Mittelschule
DESCRIPTION:Phase: Ausschreibung | Beschreibung: Offizielle Ausschreibung mit Bieterfrist. | Link: https://ausschreibungsradar.com/ausschreibung/ad70006d-45aa-4991-9daa-e5fe17625dc9/
URL:https://ausschreibungsradar.com/ausschreibung/ad70006d-45aa-4991-9daa-e5fe17625dc9/
END:VEVENT
BEGIN:VEVENT
UID:bba1f3db009e5c7c@ausschreibungsradar.com
DTSTAMP:20260424T152131Z
DTSTART;VALUE=DATE:20260319
DTEND;VALUE=DATE:20260319
SUMMARY:Ausschreibung — Erweiterung Mittelschule
DESCRIPTION:Phase: Ausschreibung | Beschreibung: Offizielle Ausschreibung mit Bieterfrist. | Link: https://ausschreibungsradar.com/ausschreibung/2a3c494f-4b1a-465f-8103-df9ea8c496b6/
URL:https://ausschreibungsradar.com/ausschreibung/2a3c494f-4b1a-465f-8103-df9ea8c496b6/
END:VEVENT
BEGIN:VEVENT
UID:037bf46294d9dde9@ausschreibungsradar.com
DTSTAMP:20260424T152131Z
DTSTART;VALUE=DATE:20260407
DTEND;VALUE=DATE:20260407
SUMMARY:Vergabeergebnis — Erweiterung Mittelschule
DESCRIPTION:Phase: Vergabeergebnis | Beschreibung: Auftrag wurde zugeschlagen | Link: https://ausschreibungsradar.com/ausschreibung/244286e3-c15e-4a2e-a718-0e56c6c60775/ | Auftragnehmer: Schreinerei-Franz-Gratzl
URL:https://ausschreibungsradar.com/ausschreibung/244286e3-c15e-4a2e-a718-0e56c6c60775/
END:VEVENT
BEGIN:VEVENT
UID:3d33b4beff9e1f40@ausschreibungsradar.com
DTSTAMP:20260424T152131Z
DTSTART;VALUE=DATE:20260420
DTEND;VALUE=DATE:20260420
SUMMARY:Ausschreibung — Erweiterung Mittelschule
DESCRIPTION:Phase: Ausschreibung | Beschreibung: Offizielle Ausschreibung mit Bieterfrist. | Link: https://ausschreibungsradar.com/ausschreibung/0216268c-3ce9-4b78-bb33-38f4044a9685/
URL:https://ausschreibungsradar.com/ausschreibung/0216268c-3ce9-4b78-bb33-38f4044a9685/
END:VEVENT
END:VCALENDAR
