BEGIN:VCALENDAR
VERSION:2.0
PRODID:-//AusschreibungsRadar//Timeline//DE
CALSCALE:GREGORIAN
METHOD:PUBLISH
X-WR-CALNAME:Projekt Sanierung und Erweiterung Erlebnisbad Senftenberg - Los 27 G
X-WR-TIMEZONE:Europe/Berlin
BEGIN:VEVENT
UID:48b73eea086ed8a7@ausschreibungsradar.com
DTSTAMP:20260424T094645Z
DTSTART;VALUE=DATE:20250827
DTEND;VALUE=DATE:20250827
SUMMARY:Zuschlag — Sanierung und Erweiterung Erlebnisbad Senftenberg - Los 27 G
DESCRIPTION:Phase: Zuschlag | Beschreibung: Vergabeergebnis — Auftrag wurde erteilt oder Verfahren beendet. | Link: https://ausschreibungsradar.com/ausschreibung/da9b1f5a-596e-4bc1-8768-44f01c6623b6/
URL:https://ausschreibungsradar.com/ausschreibung/da9b1f5a-596e-4bc1-8768-44f01c6623b6/
END:VEVENT
BEGIN:VEVENT
UID:5a7b09a9301bf08d@ausschreibungsradar.com
DTSTAMP:20260424T094645Z
DTSTART;VALUE=DATE:20250918
DTEND;VALUE=DATE:20250918
SUMMARY:Ausschreibung — Sanierung und Erweiterung Erlebnisbad Senftenberg - Los 27 G
DESCRIPTION:Phase: Ausschreibung | Beschreibung: Offizielle Ausschreibung mit Bieterfrist. | Link: https://ausschreibungsradar.com/ausschreibung/886614d3-3ddf-46b3-8e2a-8313a20c9462/
URL:https://ausschreibungsradar.com/ausschreibung/886614d3-3ddf-46b3-8e2a-8313a20c9462/
END:VEVENT
BEGIN:VEVENT
UID:9bf29fc103e9e48d@ausschreibungsradar.com
DTSTAMP:20260424T094645Z
DTSTART;VALUE=DATE:20250923
DTEND;VALUE=DATE:20250923
SUMMARY:Ausschreibung — Sanierung und Erweiterung Erlebnisbad Senftenberg - Los 27 G
DESCRIPTION:Phase: Ausschreibung | Beschreibung: Offizielle Ausschreibung mit Bieterfrist. | Link: https://ausschreibungsradar.com/ausschreibung/24434888/
URL:https://ausschreibungsradar.com/ausschreibung/24434888/
END:VEVENT
BEGIN:VEVENT
UID:a01a2ad7dc873c05@ausschreibungsradar.com
DTSTAMP:20260424T094645Z
DTSTART;VALUE=DATE:20250926
DTEND;VALUE=DATE:20250926
SUMMARY:Ausschreibung — Sanierung und Erweiterung Erlebnisbad Senftenberg - Los 27 G
DESCRIPTION:Phase: Ausschreibung | Beschreibung: Offizielle Ausschreibung mit Bieterfrist. | Link: https://ausschreibungsradar.com/ausschreibung/9077f8d1-268e-4822-a48f-4dbe917c3c9a/
URL:https://ausschreibungsradar.com/ausschreibung/9077f8d1-268e-4822-a48f-4dbe917c3c9a/
END:VEVENT
BEGIN:VEVENT
UID:4135da31386adb8c@ausschreibungsradar.com
DTSTAMP:20260424T094645Z
DTSTART;VALUE=DATE:20250929
DTEND;VALUE=DATE:20250929
SUMMARY:Ausschreibung — Sanierung und Erweiterung Erlebnisbad Senftenberg - Los 27 G
DESCRIPTION:Phase: Ausschreibung | Beschreibung: Offizielle Ausschreibung mit Bieterfrist. | Link: https://ausschreibungsradar.com/ausschreibung/24458574/
URL:https://ausschreibungsradar.com/ausschreibung/24458574/
END:VEVENT
BEGIN:VEVENT
UID:6a36c1dca464d77f@ausschreibungsradar.com
DTSTAMP:20260424T094645Z
DTSTART;VALUE=DATE:20251008
DTEND;VALUE=DATE:20251008
SUMMARY:Zuschlag — Sanierung und Erweiterung Erlebnisbad Senftenberg - Los 27 G
DESCRIPTION:Phase: Zuschlag | Beschreibung: Vergabeergebnis — Auftrag wurde erteilt oder Verfahren beendet. | Link: https://ausschreibungsradar.com/ausschreibung/b70e57cc-9d34-490b-a9d0-f78bc54cadee/
URL:https://ausschreibungsradar.com/ausschreibung/b70e57cc-9d34-490b-a9d0-f78bc54cadee/
END:VEVENT
END:VCALENDAR
