BEGIN:VCALENDAR
VERSION:2.0
PRODID:-//AusschreibungsRadar//Timeline//DE
CALSCALE:GREGORIAN
METHOD:PUBLISH
X-WR-CALNAME:Projekt Generalsanierung und Erweiterung der Grundschule Oberfahlhei
X-WR-TIMEZONE:Europe/Berlin
BEGIN:VEVENT
UID:38e4977db9caacf5@ausschreibungsradar.com
DTSTAMP:20260425T225107Z
DTSTART;VALUE=DATE:20250912
DTEND;VALUE=DATE:20250912
SUMMARY:Ausschreibung — Generalsanierung und Erweiterung der Grundschule Oberfahlhei
DESCRIPTION:Phase: Ausschreibung | Beschreibung: Offizielle Ausschreibung mit Bieterfrist. | Link: https://ausschreibungsradar.com/ausschreibung/7a08c5c2-0534-437f-92e5-400863647102/
URL:https://ausschreibungsradar.com/ausschreibung/7a08c5c2-0534-437f-92e5-400863647102/
END:VEVENT
BEGIN:VEVENT
UID:a984121689e44cf5@ausschreibungsradar.com
DTSTAMP:20260425T225107Z
DTSTART;VALUE=DATE:20250924
DTEND;VALUE=DATE:20250924
SUMMARY:Ausschreibung — Generalsanierung und Erweiterung der Grundschule Oberfahlhei
DESCRIPTION:Phase: Ausschreibung | Beschreibung: Offizielle Ausschreibung mit Bieterfrist. | Link: https://ausschreibungsradar.com/ausschreibung/24443928/
URL:https://ausschreibungsradar.com/ausschreibung/24443928/
END:VEVENT
END:VCALENDAR
