BEGIN:VCALENDAR
VERSION:2.0
PRODID:-//AusschreibungsRadar//Timeline//DE
CALSCALE:GREGORIAN
METHOD:PUBLISH
X-WR-CALNAME:Projekt Neubau Sporthalle_Grundschulzentrum Kittlitz in 02708 Löbau 
X-WR-TIMEZONE:Europe/Berlin
BEGIN:VEVENT
UID:79ddb3fed5c4bce1@ausschreibungsradar.com
DTSTAMP:20260424T142831Z
DTSTART;VALUE=DATE:20250903
DTEND;VALUE=DATE:20250903
SUMMARY:Ausschreibung — Neubau Sporthalle_Grundschulzentrum Kittlitz in 02708 Löbau 
DESCRIPTION:Phase: Ausschreibung | Beschreibung: Offizielle Ausschreibung mit Bieterfrist. | Link: https://ausschreibungsradar.com/ausschreibung/24353596/
URL:https://ausschreibungsradar.com/ausschreibung/24353596/
END:VEVENT
BEGIN:VEVENT
UID:1561a3ba756a31bd@ausschreibungsradar.com
DTSTAMP:20260424T142831Z
DTSTART;VALUE=DATE:20250918
DTEND;VALUE=DATE:20250918
SUMMARY:Ausschreibung — Neubau Sporthalle_Grundschulzentrum Kittlitz in 02708 Löbau 
DESCRIPTION:Phase: Ausschreibung | Beschreibung: Offizielle Ausschreibung mit Bieterfrist. | Link: https://ausschreibungsradar.com/ausschreibung/24416578/
URL:https://ausschreibungsradar.com/ausschreibung/24416578/
END:VEVENT
BEGIN:VEVENT
UID:59e2b966d7c81eb7@ausschreibungsradar.com
DTSTAMP:20260424T142831Z
DTSTART;VALUE=DATE:20250918
DTEND;VALUE=DATE:20250918
SUMMARY:Ausschreibung — Neubau Sporthalle_Grundschulzentrum Kittlitz in 02708 Löbau 
DESCRIPTION:Phase: Ausschreibung | Beschreibung: Offizielle Ausschreibung mit Bieterfrist. | Link: https://ausschreibungsradar.com/ausschreibung/24416510/
URL:https://ausschreibungsradar.com/ausschreibung/24416510/
END:VEVENT
BEGIN:VEVENT
UID:19babe625fd3d347@ausschreibungsradar.com
DTSTAMP:20260424T142831Z
DTSTART;VALUE=DATE:20250925
DTEND;VALUE=DATE:20250925
SUMMARY:Ausschreibung — Neubau Sporthalle_Grundschulzentrum Kittlitz in 02708 Löbau 
DESCRIPTION:Phase: Ausschreibung | Beschreibung: Offizielle Ausschreibung mit Bieterfrist. | Link: https://ausschreibungsradar.com/ausschreibung/24445032/
URL:https://ausschreibungsradar.com/ausschreibung/24445032/
END:VEVENT
BEGIN:VEVENT
UID:eddb8e2553e8b625@ausschreibungsradar.com
DTSTAMP:20260424T142831Z
DTSTART;VALUE=DATE:20250930
DTEND;VALUE=DATE:20250930
SUMMARY:Ausschreibung — Neubau Sporthalle_Grundschulzentrum Kittlitz in 02708 Löbau 
DESCRIPTION:Phase: Ausschreibung | Beschreibung: Offizielle Ausschreibung mit Bieterfrist. | Link: https://ausschreibungsradar.com/ausschreibung/24463110/
URL:https://ausschreibungsradar.com/ausschreibung/24463110/
END:VEVENT
BEGIN:VEVENT
UID:f9fe31314732238f@ausschreibungsradar.com
DTSTAMP:20260424T142831Z
DTSTART;VALUE=DATE:20250930
DTEND;VALUE=DATE:20250930
SUMMARY:Ausschreibung — Neubau Sporthalle_Grundschulzentrum Kittlitz in 02708 Löbau 
DESCRIPTION:Phase: Ausschreibung | Beschreibung: Offizielle Ausschreibung mit Bieterfrist. | Link: https://ausschreibungsradar.com/ausschreibung/24463114/
URL:https://ausschreibungsradar.com/ausschreibung/24463114/
END:VEVENT
END:VCALENDAR
