BEGIN:VCALENDAR
VERSION:2.0
PRODID:-//AusschreibungsRadar//Timeline//DE
CALSCALE:GREGORIAN
METHOD:PUBLISH
X-WR-CALNAME:Projekt Modernisierung Albert-Mooren-Halle Oedt - Raumlufttechnische
X-WR-TIMEZONE:Europe/Berlin
BEGIN:VEVENT
UID:1e6f62f8bd7871f3@ausschreibungsradar.com
DTSTAMP:20260425T225038Z
DTSTART;VALUE=DATE:20250930
DTEND;VALUE=DATE:20250930
SUMMARY:Ausschreibung — Modernisierung Albert-Mooren-Halle Oedt - Raumlufttechnische
DESCRIPTION:Phase: Ausschreibung | Beschreibung: Offizielle Ausschreibung mit Bieterfrist. | Link: https://ausschreibungsradar.com/ausschreibung/24465758/
URL:https://ausschreibungsradar.com/ausschreibung/24465758/
END:VEVENT
BEGIN:VEVENT
UID:ab089ea2b030c3a1@ausschreibungsradar.com
DTSTAMP:20260425T225038Z
DTSTART;VALUE=DATE:20251013
DTEND;VALUE=DATE:20251013
SUMMARY:Ausschreibung — Modernisierung Albert-Mooren-Halle Oedt - Raumlufttechnische
DESCRIPTION:Phase: Ausschreibung | Beschreibung: Offizielle Ausschreibung mit Bieterfrist. | Link: https://ausschreibungsradar.com/ausschreibung/24522692/
URL:https://ausschreibungsradar.com/ausschreibung/24522692/
END:VEVENT
END:VCALENDAR
