BEGIN:VCALENDAR
VERSION:2.0
PRODID:-//AusschreibungsRadar//Timeline//DE
CALSCALE:GREGORIAN
METHOD:PUBLISH
X-WR-CALNAME:Projekt Abschluss einer Rahmenvereinbarung über die Lieferung von Na
X-WR-TIMEZONE:Europe/Berlin
BEGIN:VEVENT
UID:5d6c1ebb8277eda9@ausschreibungsradar.com
DTSTAMP:20260424T233456Z
DTSTART;VALUE=DATE:20250919
DTEND;VALUE=DATE:20250919
SUMMARY:Ausschreibung — Abschluss einer Rahmenvereinbarung über die Lieferung von Na
DESCRIPTION:Phase: Ausschreibung | Beschreibung: Offizielle Ausschreibung mit Bieterfrist. | Link: https://ausschreibungsradar.com/ausschreibung/c543f31b-7a57-4612-a336-8dc638f4be41/
URL:https://ausschreibungsradar.com/ausschreibung/c543f31b-7a57-4612-a336-8dc638f4be41/
END:VEVENT
BEGIN:VEVENT
UID:ceb755064f0e0b50@ausschreibungsradar.com
DTSTAMP:20260424T233456Z
DTSTART;VALUE=DATE:20251007
DTEND;VALUE=DATE:20251007
SUMMARY:Ausschreibung — Abschluss einer Rahmenvereinbarung über die Lieferung von Na
DESCRIPTION:Phase: Ausschreibung | Beschreibung: Offizielle Ausschreibung mit Bieterfrist. | Link: https://ausschreibungsradar.com/ausschreibung/24498506/
URL:https://ausschreibungsradar.com/ausschreibung/24498506/
END:VEVENT
END:VCALENDAR
