BEGIN:VCALENDAR
VERSION:2.0
PRODID:-//AusschreibungsRadar//Timeline//DE
CALSCALE:GREGORIAN
METHOD:PUBLISH
X-WR-CALNAME:Projekt Ausführung von Bauleistungen
X-WR-TIMEZONE:Europe/Berlin
BEGIN:VEVENT
UID:cfba69ebce776f81@ausschreibungsradar.com
DTSTAMP:20260425T224937Z
DTSTART;VALUE=DATE:20250908
DTEND;VALUE=DATE:20250908
SUMMARY:Ausschreibung — Ausführung von Bauleistungen
DESCRIPTION:Phase: Ausschreibung | Beschreibung: Offizielle Ausschreibung mit Bieterfrist. | Link: https://ausschreibungsradar.com/ausschreibung/24373864/
URL:https://ausschreibungsradar.com/ausschreibung/24373864/
END:VEVENT
BEGIN:VEVENT
UID:8bfb625389a6167c@ausschreibungsradar.com
DTSTAMP:20260425T224937Z
DTSTART;VALUE=DATE:20251008
DTEND;VALUE=DATE:20251008
SUMMARY:Ausschreibung — Ausführung von Bauleistungen
DESCRIPTION:Phase: Ausschreibung | Beschreibung: Offizielle Ausschreibung mit Bieterfrist. | Link: https://ausschreibungsradar.com/ausschreibung/24501276/
URL:https://ausschreibungsradar.com/ausschreibung/24501276/
END:VEVENT
END:VCALENDAR
