BEGIN:VCALENDAR
VERSION:2.0
PRODID:-//AusschreibungsRadar//Timeline//DE
CALSCALE:GREGORIAN
METHOD:PUBLISH
X-WR-CALNAME:Projekt Sanierung Flutlichtanlage Waldsee
X-WR-TIMEZONE:Europe/Berlin
BEGIN:VEVENT
UID:5fa83142b468794d@ausschreibungsradar.com
DTSTAMP:20260424T132501Z
DTSTART;VALUE=DATE:20251014
DTEND;VALUE=DATE:20251014
SUMMARY:Ausschreibung — Sanierung Flutlichtanlage Waldsee
DESCRIPTION:Phase: Ausschreibung | Beschreibung: Offizielle Ausschreibung mit Bieterfrist. | Link: https://ausschreibungsradar.com/ausschreibung/24525948/
URL:https://ausschreibungsradar.com/ausschreibung/24525948/
END:VEVENT
BEGIN:VEVENT
UID:8b5e1586090c9c72@ausschreibungsradar.com
DTSTAMP:20260424T132501Z
DTSTART;VALUE=DATE:20251014
DTEND;VALUE=DATE:20251014
SUMMARY:Ausschreibung — Sanierung Flutlichtanlage Waldsee
DESCRIPTION:Phase: Ausschreibung | Beschreibung: Offizielle Ausschreibung mit Bieterfrist. | Link: https://ausschreibungsradar.com/ausschreibung/24528418/
URL:https://ausschreibungsradar.com/ausschreibung/24528418/
END:VEVENT
END:VCALENDAR
