BEGIN:VCALENDAR
VERSION:2.0
PRODID:-//AusschreibungsRadar//Timeline//DE
CALSCALE:GREGORIAN
METHOD:PUBLISH
X-WR-CALNAME:Projekt Modernisierung Albert-Mooren-Halle Oedt - Elektroinstallatio
X-WR-TIMEZONE:Europe/Berlin
BEGIN:VEVENT
UID:ab089ea2b030c3a1@ausschreibungsradar.com
DTSTAMP:20260426T015117Z
DTSTART;VALUE=DATE:20251013
DTEND;VALUE=DATE:20251013
SUMMARY:Ausschreibung — Modernisierung Albert-Mooren-Halle Oedt - Elektroinstallatio
DESCRIPTION:Phase: Ausschreibung | Beschreibung: Offizielle Ausschreibung mit Bieterfrist. | Link: https://ausschreibungsradar.com/ausschreibung/24522692/
URL:https://ausschreibungsradar.com/ausschreibung/24522692/
END:VEVENT
BEGIN:VEVENT
UID:d70ba12123a4c3a3@ausschreibungsradar.com
DTSTAMP:20260426T015117Z
DTSTART;VALUE=DATE:20251017
DTEND;VALUE=DATE:20251017
SUMMARY:Ausschreibung — Modernisierung Albert-Mooren-Halle Oedt - Elektroinstallatio
DESCRIPTION:Phase: Ausschreibung | Beschreibung: Offizielle Ausschreibung mit Bieterfrist. | Link: https://ausschreibungsradar.com/ausschreibung/24545654/
URL:https://ausschreibungsradar.com/ausschreibung/24545654/
END:VEVENT
END:VCALENDAR
