BEGIN:VCALENDAR
VERSION:2.0
PRODID:-//AusschreibungsRadar//Timeline//DE
CALSCALE:GREGORIAN
METHOD:PUBLISH
X-WR-CALNAME:Projekt Straßenbau
X-WR-TIMEZONE:Europe/Berlin
BEGIN:VEVENT
UID:70ecebd2e33a4646@ausschreibungsradar.com
DTSTAMP:20260425T103421Z
DTSTART;VALUE=DATE:20251022
DTEND;VALUE=DATE:20251022
SUMMARY:Ausschreibung — Straßenbau
DESCRIPTION:Phase: Ausschreibung | Beschreibung: Offizielle Ausschreibung mit Bieterfrist. | Link: https://ausschreibungsradar.com/ausschreibung/24560064/
URL:https://ausschreibungsradar.com/ausschreibung/24560064/
END:VEVENT
BEGIN:VEVENT
UID:edc308bc179a6beb@ausschreibungsradar.com
DTSTAMP:20260425T103421Z
DTSTART;VALUE=DATE:20251022
DTEND;VALUE=DATE:20251022
SUMMARY:Ausschreibung — Straßenbau
DESCRIPTION:Phase: Ausschreibung | Beschreibung: Offizielle Ausschreibung mit Bieterfrist. | Link: https://ausschreibungsradar.com/ausschreibung/24560080/
URL:https://ausschreibungsradar.com/ausschreibung/24560080/
END:VEVENT
END:VCALENDAR
