BEGIN:VCALENDAR
VERSION:2.0
PRODID:-//AusschreibungsRadar//Timeline//DE
CALSCALE:GREGORIAN
METHOD:PUBLISH
X-WR-CALNAME:Projekt Markterkundungsverfahren – Gebäude- und Inhaltsversicherung 
X-WR-TIMEZONE:Europe/Berlin
BEGIN:VEVENT
UID:a42771cb3e06704e@ausschreibungsradar.com
DTSTAMP:20260424T192101Z
DTSTART;VALUE=DATE:20251024
DTEND;VALUE=DATE:20251024
SUMMARY:Ausschreibung — Markterkundungsverfahren – Gebäude- und Inhaltsversicherung 
DESCRIPTION:Phase: Ausschreibung | Beschreibung: Offizielle Ausschreibung mit Bieterfrist. | Link: https://ausschreibungsradar.com/ausschreibung/24571096/
URL:https://ausschreibungsradar.com/ausschreibung/24571096/
END:VEVENT
BEGIN:VEVENT
UID:c61c7dc42feab2a8@ausschreibungsradar.com
DTSTAMP:20260424T192101Z
DTSTART;VALUE=DATE:20251113
DTEND;VALUE=DATE:20251113
SUMMARY:Ausschreibung — Markterkundungsverfahren – Gebäude- und Inhaltsversicherung 
DESCRIPTION:Phase: Ausschreibung | Beschreibung: Offizielle Ausschreibung mit Bieterfrist. | Link: https://ausschreibungsradar.com/ausschreibung/24651088/
URL:https://ausschreibungsradar.com/ausschreibung/24651088/
END:VEVENT
END:VCALENDAR
