BEGIN:VCALENDAR
VERSION:2.0
PRODID:-//AusschreibungsRadar//Timeline//DE
CALSCALE:GREGORIAN
METHOD:PUBLISH
X-WR-CALNAME:Projekt Neubau einer Kindertagesstätte mit 4 Gruppen
X-WR-TIMEZONE:Europe/Berlin
BEGIN:VEVENT
UID:8bc1303c41c8f23e@ausschreibungsradar.com
DTSTAMP:20260424T033152Z
DTSTART;VALUE=DATE:20251027
DTEND;VALUE=DATE:20251027
SUMMARY:Ausschreibung — Neubau einer Kindertagesstätte mit 4 Gruppen
DESCRIPTION:Phase: Ausschreibung | Beschreibung: Offizielle Ausschreibung mit Bieterfrist. | Link: https://ausschreibungsradar.com/ausschreibung/24577018/
URL:https://ausschreibungsradar.com/ausschreibung/24577018/
END:VEVENT
BEGIN:VEVENT
UID:dff1410f1208e731@ausschreibungsradar.com
DTSTAMP:20260424T033152Z
DTSTART;VALUE=DATE:20251028
DTEND;VALUE=DATE:20251028
SUMMARY:Ausschreibung — Neubau einer Kindertagesstätte mit 4 Gruppen
DESCRIPTION:Phase: Ausschreibung | Beschreibung: Offizielle Ausschreibung mit Bieterfrist. | Link: https://ausschreibungsradar.com/ausschreibung/24581252/
URL:https://ausschreibungsradar.com/ausschreibung/24581252/
END:VEVENT
BEGIN:VEVENT
UID:3a458ed642067e7b@ausschreibungsradar.com
DTSTAMP:20260424T033152Z
DTSTART;VALUE=DATE:20251028
DTEND;VALUE=DATE:20251028
SUMMARY:Ausschreibung — Neubau einer Kindertagesstätte mit 4 Gruppen
DESCRIPTION:Phase: Ausschreibung | Beschreibung: Offizielle Ausschreibung mit Bieterfrist. | Link: https://ausschreibungsradar.com/ausschreibung/24581260/
URL:https://ausschreibungsradar.com/ausschreibung/24581260/
END:VEVENT
BEGIN:VEVENT
UID:6ac9fec88a67639a@ausschreibungsradar.com
DTSTAMP:20260424T033152Z
DTSTART;VALUE=DATE:20251028
DTEND;VALUE=DATE:20251028
SUMMARY:Ausschreibung — Neubau einer Kindertagesstätte mit 4 Gruppen
DESCRIPTION:Phase: Ausschreibung | Beschreibung: Offizielle Ausschreibung mit Bieterfrist. | Link: https://ausschreibungsradar.com/ausschreibung/24581276/
URL:https://ausschreibungsradar.com/ausschreibung/24581276/
END:VEVENT
BEGIN:VEVENT
UID:7ddb0bcd251fb266@ausschreibungsradar.com
DTSTAMP:20260424T033152Z
DTSTART;VALUE=DATE:20251029
DTEND;VALUE=DATE:20251029
SUMMARY:Ausschreibung — Neubau einer Kindertagesstätte mit 4 Gruppen
DESCRIPTION:Phase: Ausschreibung | Beschreibung: Offizielle Ausschreibung mit Bieterfrist. | Link: https://ausschreibungsradar.com/ausschreibung/24586508/
URL:https://ausschreibungsradar.com/ausschreibung/24586508/
END:VEVENT
BEGIN:VEVENT
UID:827e246eb651eab5@ausschreibungsradar.com
DTSTAMP:20260424T033152Z
DTSTART;VALUE=DATE:20251029
DTEND;VALUE=DATE:20251029
SUMMARY:Ausschreibung — Neubau einer Kindertagesstätte mit 4 Gruppen
DESCRIPTION:Phase: Ausschreibung | Beschreibung: Offizielle Ausschreibung mit Bieterfrist. | Link: https://ausschreibungsradar.com/ausschreibung/24586568/
URL:https://ausschreibungsradar.com/ausschreibung/24586568/
END:VEVENT
END:VCALENDAR
