BEGIN:VCALENDAR
VERSION:2.0
PRODID:-//AusschreibungsRadar//Timeline//DE
CALSCALE:GREGORIAN
METHOD:PUBLISH
X-WR-CALNAME:Projekt Dachdeckungsarbeiten
X-WR-TIMEZONE:Europe/Berlin
BEGIN:VEVENT
UID:44a35dbde052c8d3@ausschreibungsradar.com
DTSTAMP:20260424T094641Z
DTSTART;VALUE=DATE:20251027
DTEND;VALUE=DATE:20251027
SUMMARY:Ausschreibung — Dachdeckungsarbeiten
DESCRIPTION:Phase: Ausschreibung | Beschreibung: Offizielle Ausschreibung mit Bieterfrist. | Link: https://ausschreibungsradar.com/ausschreibung/24582512/
URL:https://ausschreibungsradar.com/ausschreibung/24582512/
END:VEVENT
BEGIN:VEVENT
UID:b87ad476700a68a3@ausschreibungsradar.com
DTSTAMP:20260424T094641Z
DTSTART;VALUE=DATE:20251027
DTEND;VALUE=DATE:20251027
SUMMARY:Ausschreibung — Dachdeckungsarbeiten
DESCRIPTION:Phase: Ausschreibung | Beschreibung: Offizielle Ausschreibung mit Bieterfrist. | Link: https://ausschreibungsradar.com/ausschreibung/24582508/
URL:https://ausschreibungsradar.com/ausschreibung/24582508/
END:VEVENT
END:VCALENDAR
