BEGIN:VCALENDAR
VERSION:2.0
PRODID:-//AusschreibungsRadar//Timeline//DE
CALSCALE:GREGORIAN
METHOD:PUBLISH
X-WR-CALNAME:Projekt 25B20233 - BZ Stade Am Burggraben (Bahnhofstr. 5), Z-BU Sani
X-WR-TIMEZONE:Europe/Berlin
BEGIN:VEVENT
UID:efe8f86712ebc38a@ausschreibungsradar.com
DTSTAMP:20260426T020919Z
DTSTART;VALUE=DATE:20251028
DTEND;VALUE=DATE:20251028
SUMMARY:Ausschreibung — 25B20233 - BZ Stade Am Burggraben (Bahnhofstr. 5)\, Z-BU Sani
DESCRIPTION:Phase: Ausschreibung | Beschreibung: Offizielle Ausschreibung mit Bieterfrist. | Link: https://ausschreibungsradar.com/ausschreibung/24583884/
URL:https://ausschreibungsradar.com/ausschreibung/24583884/
END:VEVENT
BEGIN:VEVENT
UID:059d44e001628277@ausschreibungsradar.com
DTSTAMP:20260426T020919Z
DTSTART;VALUE=DATE:20251028
DTEND;VALUE=DATE:20251028
SUMMARY:Ausschreibung — 25B20233 - BZ Stade Am Burggraben (Bahnhofstr. 5)\, Z-BU Sani
DESCRIPTION:Phase: Ausschreibung | Beschreibung: Offizielle Ausschreibung mit Bieterfrist. | Link: https://ausschreibungsradar.com/ausschreibung/24583876/
URL:https://ausschreibungsradar.com/ausschreibung/24583876/
END:VEVENT
END:VCALENDAR
