BEGIN:VCALENDAR
VERSION:2.0
PRODID:-//AusschreibungsRadar//Timeline//DE
CALSCALE:GREGORIAN
METHOD:PUBLISH
X-WR-CALNAME:Projekt Kauf eines Streckenfahrzeugs - Pick Up
X-WR-TIMEZONE:Europe/Berlin
BEGIN:VEVENT
UID:3aaec2f9b0f8cedb@ausschreibungsradar.com
DTSTAMP:20260425T131141Z
DTSTART;VALUE=DATE:20251028
DTEND;VALUE=DATE:20251028
SUMMARY:Ausschreibung — Kauf eines Streckenfahrzeugs - Pick Up
DESCRIPTION:Phase: Ausschreibung | Beschreibung: Offizielle Ausschreibung mit Bieterfrist. | Link: https://ausschreibungsradar.com/ausschreibung/24586410/
URL:https://ausschreibungsradar.com/ausschreibung/24586410/
END:VEVENT
BEGIN:VEVENT
UID:408d5149578343bc@ausschreibungsradar.com
DTSTAMP:20260425T131141Z
DTSTART;VALUE=DATE:20251118
DTEND;VALUE=DATE:20251118
SUMMARY:Ausschreibung — Kauf eines Streckenfahrzeugs - Pick Up
DESCRIPTION:Phase: Ausschreibung | Beschreibung: Offizielle Ausschreibung mit Bieterfrist. | Link: https://ausschreibungsradar.com/ausschreibung/24672638/
URL:https://ausschreibungsradar.com/ausschreibung/24672638/
END:VEVENT
END:VCALENDAR
