BEGIN:VCALENDAR
VERSION:2.0
PRODID:-//AusschreibungsRadar//Timeline//DE
CALSCALE:GREGORIAN
METHOD:PUBLISH
X-WR-CALNAME:Projekt Sanierung Turnhalle und Schwimmbad Weene - Los 8 HLS
X-WR-TIMEZONE:Europe/Berlin
BEGIN:VEVENT
UID:cdf0947af46419db@ausschreibungsradar.com
DTSTAMP:20260426T015039Z
DTSTART;VALUE=DATE:20251029
DTEND;VALUE=DATE:20251029
SUMMARY:Ausschreibung — Sanierung Turnhalle und Schwimmbad Weene - Los 8 HLS
DESCRIPTION:Phase: Ausschreibung | Beschreibung: Offizielle Ausschreibung mit Bieterfrist. | Link: https://ausschreibungsradar.com/ausschreibung/24589250/
URL:https://ausschreibungsradar.com/ausschreibung/24589250/
END:VEVENT
BEGIN:VEVENT
UID:779a6bae21fb4b89@ausschreibungsradar.com
DTSTAMP:20260426T015039Z
DTSTART;VALUE=DATE:20251029
DTEND;VALUE=DATE:20251029
SUMMARY:Ausschreibung — Sanierung Turnhalle und Schwimmbad Weene - Los 8 HLS
DESCRIPTION:Phase: Ausschreibung | Beschreibung: Offizielle Ausschreibung mit Bieterfrist. | Link: https://ausschreibungsradar.com/ausschreibung/24589254/
URL:https://ausschreibungsradar.com/ausschreibung/24589254/
END:VEVENT
END:VCALENDAR
