BEGIN:VCALENDAR
VERSION:2.0
PRODID:-//AusschreibungsRadar//Timeline//DE
CALSCALE:GREGORIAN
METHOD:PUBLISH
X-WR-CALNAME:Projekt Sanierung der Mehrzweckhalle Sayn
X-WR-TIMEZONE:Europe/Berlin
BEGIN:VEVENT
UID:cbc1defc3ab77297@ausschreibungsradar.com
DTSTAMP:20260424T180934Z
DTSTART;VALUE=DATE:20251029
DTEND;VALUE=DATE:20251029
SUMMARY:Ausschreibung — Sanierung der Mehrzweckhalle Sayn
DESCRIPTION:Phase: Ausschreibung | Beschreibung: Offizielle Ausschreibung mit Bieterfrist. | Link: https://ausschreibungsradar.com/ausschreibung/24590184/
URL:https://ausschreibungsradar.com/ausschreibung/24590184/
END:VEVENT
BEGIN:VEVENT
UID:d51a868efd936a90@ausschreibungsradar.com
DTSTAMP:20260424T180934Z
DTSTART;VALUE=DATE:20251112
DTEND;VALUE=DATE:20251112
SUMMARY:Ausschreibung — Sanierung der Mehrzweckhalle Sayn
DESCRIPTION:Phase: Ausschreibung | Beschreibung: Offizielle Ausschreibung mit Bieterfrist. | Link: https://ausschreibungsradar.com/ausschreibung/24646840/
URL:https://ausschreibungsradar.com/ausschreibung/24646840/
END:VEVENT
END:VCALENDAR
