BEGIN:VCALENDAR
VERSION:2.0
PRODID:-//AusschreibungsRadar//Timeline//DE
CALSCALE:GREGORIAN
METHOD:PUBLISH
X-WR-CALNAME:Projekt BLB NRW / NL Dortmund /JVA Werl (WE1407); Erneuerung Duschen
X-WR-TIMEZONE:Europe/Berlin
BEGIN:VEVENT
UID:4ce82a37b5615238@ausschreibungsradar.com
DTSTAMP:20260423T224406Z
DTSTART;VALUE=DATE:20251015
DTEND;VALUE=DATE:20251015
SUMMARY:Ausschreibung — BLB NRW / NL Dortmund /JVA Werl (WE1407)\; Erneuerung Duschen
DESCRIPTION:Phase: Ausschreibung | Beschreibung: Offizielle Ausschreibung mit Bieterfrist. | Link: https://ausschreibungsradar.com/ausschreibung/24534118/
URL:https://ausschreibungsradar.com/ausschreibung/24534118/
END:VEVENT
BEGIN:VEVENT
UID:e87ffda94ba6d44f@ausschreibungsradar.com
DTSTAMP:20260423T224406Z
DTSTART;VALUE=DATE:20251017
DTEND;VALUE=DATE:20251017
SUMMARY:Ausschreibung — BLB NRW / NL Dortmund /JVA Werl (WE1407)\; Erneuerung Duschen
DESCRIPTION:Phase: Ausschreibung | Beschreibung: Offizielle Ausschreibung mit Bieterfrist. | Link: https://ausschreibungsradar.com/ausschreibung/24546104/
URL:https://ausschreibungsradar.com/ausschreibung/24546104/
END:VEVENT
BEGIN:VEVENT
UID:505c0ff581edacda@ausschreibungsradar.com
DTSTAMP:20260423T224406Z
DTSTART;VALUE=DATE:20251029
DTEND;VALUE=DATE:20251029
SUMMARY:Ausschreibung — BLB NRW / NL Dortmund /JVA Werl (WE1407)\; Erneuerung Duschen
DESCRIPTION:Phase: Ausschreibung | Beschreibung: Offizielle Ausschreibung mit Bieterfrist. | Link: https://ausschreibungsradar.com/ausschreibung/24592314/
URL:https://ausschreibungsradar.com/ausschreibung/24592314/
END:VEVENT
END:VCALENDAR
