BEGIN:VCALENDAR
VERSION:2.0
PRODID:-//AusschreibungsRadar//Timeline//DE
CALSCALE:GREGORIAN
METHOD:PUBLISH
X-WR-CALNAME:Projekt Schwarzhofen : Generalsanierung der Dr.-von-Ringseis-Grundsc
X-WR-TIMEZONE:Europe/Berlin
BEGIN:VEVENT
UID:e6bd398c64317f1b@ausschreibungsradar.com
DTSTAMP:20260425T102226Z
DTSTART;VALUE=DATE:20251029
DTEND;VALUE=DATE:20251029
SUMMARY:Zuschlag — Schwarzhofen : Generalsanierung der Dr.-von-Ringseis-Grundsc
DESCRIPTION:Phase: Zuschlag | Beschreibung: Vergabeergebnis — Auftrag wurde erteilt oder Verfahren beendet. | Link: https://ausschreibungsradar.com/ausschreibung/24593260/
URL:https://ausschreibungsradar.com/ausschreibung/24593260/
END:VEVENT
BEGIN:VEVENT
UID:1dd5f110f9f679ee@ausschreibungsradar.com
DTSTAMP:20260425T102226Z
DTSTART;VALUE=DATE:20251029
DTEND;VALUE=DATE:20251029
SUMMARY:Zuschlag — Schwarzhofen : Generalsanierung der Dr.-von-Ringseis-Grundsc
DESCRIPTION:Phase: Zuschlag | Beschreibung: Vergabeergebnis — Auftrag wurde erteilt oder Verfahren beendet. | Link: https://ausschreibungsradar.com/ausschreibung/24593264/
URL:https://ausschreibungsradar.com/ausschreibung/24593264/
END:VEVENT
END:VCALENDAR
