BEGIN:VCALENDAR
VERSION:2.0
PRODID:-//AusschreibungsRadar//Timeline//DE
CALSCALE:GREGORIAN
METHOD:PUBLISH
X-WR-CALNAME:Projekt Brandschutzsanierung BBS Alfeld Abbruch und Entsorgung
X-WR-TIMEZONE:Europe/Berlin
BEGIN:VEVENT
UID:20674d0538d21d88@ausschreibungsradar.com
DTSTAMP:20260426T002054Z
DTSTART;VALUE=DATE:20251029
DTEND;VALUE=DATE:20251029
SUMMARY:Ausschreibung — Brandschutzsanierung BBS Alfeld Abbruch und Entsorgung
DESCRIPTION:Phase: Ausschreibung | Beschreibung: Offizielle Ausschreibung mit Bieterfrist. | Link: https://ausschreibungsradar.com/ausschreibung/24589298/
URL:https://ausschreibungsradar.com/ausschreibung/24589298/
END:VEVENT
BEGIN:VEVENT
UID:63f4f66520b0cfe4@ausschreibungsradar.com
DTSTAMP:20260426T002054Z
DTSTART;VALUE=DATE:20251030
DTEND;VALUE=DATE:20251030
SUMMARY:Ausschreibung — Brandschutzsanierung BBS Alfeld Abbruch und Entsorgung
DESCRIPTION:Phase: Ausschreibung | Beschreibung: Offizielle Ausschreibung mit Bieterfrist. | Link: https://ausschreibungsradar.com/ausschreibung/24594762/
URL:https://ausschreibungsradar.com/ausschreibung/24594762/
END:VEVENT
END:VCALENDAR
