BEGIN:VCALENDAR
VERSION:2.0
PRODID:-//AusschreibungsRadar//Timeline//DE
CALSCALE:GREGORIAN
METHOD:PUBLISH
X-WR-CALNAME:Projekt Neubau Sozialgebäude Fliesenarbeiten
X-WR-TIMEZONE:Europe/Berlin
BEGIN:VEVENT
UID:8e0a381cdda514f2@ausschreibungsradar.com
DTSTAMP:20260424T000924Z
DTSTART;VALUE=DATE:20251031
DTEND;VALUE=DATE:20251031
SUMMARY:Ausschreibung — Neubau Sozialgebäude Fliesenarbeiten
DESCRIPTION:Phase: Ausschreibung | Beschreibung: Offizielle Ausschreibung mit Bieterfrist. | Link: https://ausschreibungsradar.com/ausschreibung/24598816/
URL:https://ausschreibungsradar.com/ausschreibung/24598816/
END:VEVENT
BEGIN:VEVENT
UID:ff49bf97d9d63c68@ausschreibungsradar.com
DTSTAMP:20260424T000924Z
DTSTART;VALUE=DATE:20251031
DTEND;VALUE=DATE:20251031
SUMMARY:Ausschreibung — Neubau Sozialgebäude Fliesenarbeiten
DESCRIPTION:Phase: Ausschreibung | Beschreibung: Offizielle Ausschreibung mit Bieterfrist. | Link: https://ausschreibungsradar.com/ausschreibung/24598844/
URL:https://ausschreibungsradar.com/ausschreibung/24598844/
END:VEVENT
END:VCALENDAR
