BEGIN:VCALENDAR
VERSION:2.0
PRODID:-//AusschreibungsRadar//Timeline//DE
CALSCALE:GREGORIAN
METHOD:PUBLISH
X-WR-CALNAME:Projekt Beschaffung eines Gerätewagen Logistik 1
X-WR-TIMEZONE:Europe/Berlin
BEGIN:VEVENT
UID:61c15b6f581dd0f1@ausschreibungsradar.com
DTSTAMP:20260424T132957Z
DTSTART;VALUE=DATE:20260611
DTEND;VALUE=DATE:20260611
SUMMARY:Angebotsfrist — Beschaffung eines Gerätewagen Logistik 1
DESCRIPTION:Phase: Ausschreibung | Beschreibung: Angebote werden eingeholt | Link: https://ausschreibungsradar.com/ausschreibung/245a2d7f-108a-41cf-befd-dc684d2fdce1/ | Geschätzter Wert: 230000 €
URL:https://ausschreibungsradar.com/ausschreibung/245a2d7f-108a-41cf-befd-dc684d2fdce1/
END:VEVENT
BEGIN:VEVENT
UID:0176d0bf5ef7c1bd@ausschreibungsradar.com
DTSTAMP:20260424T132957Z
DTSTART;VALUE=DATE:20260421
DTEND;VALUE=DATE:20260421
SUMMARY:Ausschreibung — Beschaffung eines Gerätewagen Logistik 1
DESCRIPTION:Phase: Ausschreibung | Beschreibung: Offizielle Ausschreibung mit Bieterfrist. | Link: https://ausschreibungsradar.com/ausschreibung/ted-269900-2026/
URL:https://ausschreibungsradar.com/ausschreibung/ted-269900-2026/
END:VEVENT
END:VCALENDAR
