BEGIN:VCALENDAR
VERSION:2.0
PRODID:-//AusschreibungsRadar//Timeline//DE
CALSCALE:GREGORIAN
METHOD:PUBLISH
X-WR-CALNAME:Projekt Um- und Ausbau der Bushaltestelle am Wettiner Platz in Leubn
X-WR-TIMEZONE:Europe/Berlin
BEGIN:VEVENT
UID:7bf307e7d8c1947c@ausschreibungsradar.com
DTSTAMP:20260425T235444Z
DTSTART;VALUE=DATE:20251103
DTEND;VALUE=DATE:20251103
SUMMARY:Zuschlag — Um- und Ausbau der Bushaltestelle am Wettiner Platz in Leubn
DESCRIPTION:Phase: Zuschlag | Beschreibung: Vergabeergebnis — Auftrag wurde erteilt oder Verfahren beendet. | Link: https://ausschreibungsradar.com/ausschreibung/24606080/
URL:https://ausschreibungsradar.com/ausschreibung/24606080/
END:VEVENT
BEGIN:VEVENT
UID:31044b8779145ede@ausschreibungsradar.com
DTSTAMP:20260425T235444Z
DTSTART;VALUE=DATE:20251103
DTEND;VALUE=DATE:20251103
SUMMARY:Zuschlag — Um- und Ausbau der Bushaltestelle am Wettiner Platz in Leubn
DESCRIPTION:Phase: Zuschlag | Beschreibung: Vergabeergebnis — Auftrag wurde erteilt oder Verfahren beendet. | Link: https://ausschreibungsradar.com/ausschreibung/24606084/
URL:https://ausschreibungsradar.com/ausschreibung/24606084/
END:VEVENT
END:VCALENDAR
