BEGIN:VCALENDAR
VERSION:2.0
PRODID:-//AusschreibungsRadar//Timeline//DE
CALSCALE:GREGORIAN
METHOD:PUBLISH
X-WR-CALNAME:Projekt Foerderanlagen, Aufzugsanlagen, Fahrtreppen und Fahrsteige_F
X-WR-TIMEZONE:Europe/Berlin
BEGIN:VEVENT
UID:eb466293b3db82fb@ausschreibungsradar.com
DTSTAMP:20260425T201205Z
DTSTART;VALUE=DATE:20251027
DTEND;VALUE=DATE:20251027
SUMMARY:Ausschreibung — Foerderanlagen\, Aufzugsanlagen\, Fahrtreppen und Fahrsteige_F
DESCRIPTION:Phase: Ausschreibung | Beschreibung: Offizielle Ausschreibung mit Bieterfrist. | Link: https://ausschreibungsradar.com/ausschreibung/24581958/
URL:https://ausschreibungsradar.com/ausschreibung/24581958/
END:VEVENT
BEGIN:VEVENT
UID:315312ad8d84220a@ausschreibungsradar.com
DTSTAMP:20260425T201205Z
DTSTART;VALUE=DATE:20251104
DTEND;VALUE=DATE:20251104
SUMMARY:Ausschreibung — Foerderanlagen\, Aufzugsanlagen\, Fahrtreppen und Fahrsteige_F
DESCRIPTION:Phase: Ausschreibung | Beschreibung: Offizielle Ausschreibung mit Bieterfrist. | Link: https://ausschreibungsradar.com/ausschreibung/24615236/
URL:https://ausschreibungsradar.com/ausschreibung/24615236/
END:VEVENT
END:VCALENDAR
