BEGIN:VCALENDAR
VERSION:2.0
PRODID:-//AusschreibungsRadar//Timeline//DE
CALSCALE:GREGORIAN
METHOD:PUBLISH
X-WR-CALNAME:Projekt Bodenbelagsarbeiten, Sportboden
X-WR-TIMEZONE:Europe/Berlin
BEGIN:VEVENT
UID:6c93bc19424314d7@ausschreibungsradar.com
DTSTAMP:20260424T053814Z
DTSTART;VALUE=DATE:20251111
DTEND;VALUE=DATE:20251111
SUMMARY:Ausschreibung — Bodenbelagsarbeiten\, Sportboden
DESCRIPTION:Phase: Ausschreibung | Beschreibung: Offizielle Ausschreibung mit Bieterfrist. | Link: https://ausschreibungsradar.com/ausschreibung/24644108/
URL:https://ausschreibungsradar.com/ausschreibung/24644108/
END:VEVENT
BEGIN:VEVENT
UID:a9ce624faf4d97cd@ausschreibungsradar.com
DTSTAMP:20260424T053814Z
DTSTART;VALUE=DATE:20251111
DTEND;VALUE=DATE:20251111
SUMMARY:Ausschreibung — Bodenbelagsarbeiten\, Sportboden
DESCRIPTION:Phase: Ausschreibung | Beschreibung: Offizielle Ausschreibung mit Bieterfrist. | Link: https://ausschreibungsradar.com/ausschreibung/24644112/
URL:https://ausschreibungsradar.com/ausschreibung/24644112/
END:VEVENT
END:VCALENDAR
