BEGIN:VCALENDAR
VERSION:2.0
PRODID:-//AusschreibungsRadar//Timeline//DE
CALSCALE:GREGORIAN
METHOD:PUBLISH
X-WR-CALNAME:Projekt Baumkontrolle im Bereich der SM Schleiden
X-WR-TIMEZONE:Europe/Berlin
BEGIN:VEVENT
UID:83a5c6a5c0bb5018@ausschreibungsradar.com
DTSTAMP:20260424T204258Z
DTSTART;VALUE=DATE:20251111
DTEND;VALUE=DATE:20251111
SUMMARY:Ausschreibung — Baumkontrolle im Bereich der SM Schleiden
DESCRIPTION:Phase: Ausschreibung | Beschreibung: Offizielle Ausschreibung mit Bieterfrist. | Link: https://ausschreibungsradar.com/ausschreibung/24643744/
URL:https://ausschreibungsradar.com/ausschreibung/24643744/
END:VEVENT
BEGIN:VEVENT
UID:2136e83fa863d004@ausschreibungsradar.com
DTSTAMP:20260424T204258Z
DTSTART;VALUE=DATE:20251112
DTEND;VALUE=DATE:20251112
SUMMARY:Ausschreibung — Baumkontrolle im Bereich der SM Schleiden
DESCRIPTION:Phase: Ausschreibung | Beschreibung: Offizielle Ausschreibung mit Bieterfrist. | Link: https://ausschreibungsradar.com/ausschreibung/24649488/
URL:https://ausschreibungsradar.com/ausschreibung/24649488/
END:VEVENT
END:VCALENDAR
