BEGIN:VCALENDAR
VERSION:2.0
PRODID:-//AusschreibungsRadar//Timeline//DE
CALSCALE:GREGORIAN
METHOD:PUBLISH
X-WR-CALNAME:Projekt Sanierung Grundschule Seifersdorf - Los 07 Innentüren Holz
X-WR-TIMEZONE:Europe/Berlin
BEGIN:VEVENT
UID:56600050d55a8aeb@ausschreibungsradar.com
DTSTAMP:20260424T223223Z
DTSTART;VALUE=DATE:20251113
DTEND;VALUE=DATE:20251113
SUMMARY:Ausschreibung — Sanierung Grundschule Seifersdorf - Los 07 Innentüren Holz
DESCRIPTION:Phase: Ausschreibung | Beschreibung: Offizielle Ausschreibung mit Bieterfrist. | Link: https://ausschreibungsradar.com/ausschreibung/24651782/
URL:https://ausschreibungsradar.com/ausschreibung/24651782/
END:VEVENT
BEGIN:VEVENT
UID:69466f6a126a7dc6@ausschreibungsradar.com
DTSTAMP:20260424T223223Z
DTSTART;VALUE=DATE:20251128
DTEND;VALUE=DATE:20251128
SUMMARY:Ausschreibung — Sanierung Grundschule Seifersdorf - Los 07 Innentüren Holz
DESCRIPTION:Phase: Ausschreibung | Beschreibung: Offizielle Ausschreibung mit Bieterfrist. | Link: https://ausschreibungsradar.com/ausschreibung/24714080/
URL:https://ausschreibungsradar.com/ausschreibung/24714080/
END:VEVENT
END:VCALENDAR
