BEGIN:VCALENDAR
VERSION:2.0
PRODID:-//AusschreibungsRadar//Timeline//DE
CALSCALE:GREGORIAN
METHOD:PUBLISH
X-WR-CALNAME:Projekt Sanierung Grundschule Seifersdorf - Los 11 Metallbau
X-WR-TIMEZONE:Europe/Berlin
BEGIN:VEVENT
UID:e79bf6fe3d4e9382@ausschreibungsradar.com
DTSTAMP:20260425T131217Z
DTSTART;VALUE=DATE:20251027
DTEND;VALUE=DATE:20251027
SUMMARY:Ausschreibung — Sanierung Grundschule Seifersdorf - Los 11 Metallbau
DESCRIPTION:Phase: Ausschreibung | Beschreibung: Offizielle Ausschreibung mit Bieterfrist. | Link: https://ausschreibungsradar.com/ausschreibung/24578760/
URL:https://ausschreibungsradar.com/ausschreibung/24578760/
END:VEVENT
BEGIN:VEVENT
UID:7a0f920493d39a12@ausschreibungsradar.com
DTSTAMP:20260425T131217Z
DTSTART;VALUE=DATE:20251113
DTEND;VALUE=DATE:20251113
SUMMARY:Ausschreibung — Sanierung Grundschule Seifersdorf - Los 11 Metallbau
DESCRIPTION:Phase: Ausschreibung | Beschreibung: Offizielle Ausschreibung mit Bieterfrist. | Link: https://ausschreibungsradar.com/ausschreibung/24651798/
URL:https://ausschreibungsradar.com/ausschreibung/24651798/
END:VEVENT
END:VCALENDAR
