BEGIN:VCALENDAR
VERSION:2.0
PRODID:-//AusschreibungsRadar//Timeline//DE
CALSCALE:GREGORIAN
METHOD:PUBLISH
X-WR-CALNAME:Projekt Stadt Bückeburg: Neubau der Feuerwehr Cammer: Trockenbauarbe
X-WR-TIMEZONE:Europe/Berlin
BEGIN:VEVENT
UID:8a3aafd11e1e841f@ausschreibungsradar.com
DTSTAMP:20260424T161658Z
DTSTART;VALUE=DATE:20251028
DTEND;VALUE=DATE:20251028
SUMMARY:Ausschreibung — Stadt Bückeburg: Neubau der Feuerwehr Cammer: Trockenbauarbe
DESCRIPTION:Phase: Ausschreibung | Beschreibung: Offizielle Ausschreibung mit Bieterfrist. | Link: https://ausschreibungsradar.com/ausschreibung/24584144/
URL:https://ausschreibungsradar.com/ausschreibung/24584144/
END:VEVENT
BEGIN:VEVENT
UID:c323f7f78834ea37@ausschreibungsradar.com
DTSTAMP:20260424T161658Z
DTSTART;VALUE=DATE:20251118
DTEND;VALUE=DATE:20251118
SUMMARY:Ausschreibung — Stadt Bückeburg: Neubau der Feuerwehr Cammer: Trockenbauarbe
DESCRIPTION:Phase: Ausschreibung | Beschreibung: Offizielle Ausschreibung mit Bieterfrist. | Link: https://ausschreibungsradar.com/ausschreibung/24670192/
URL:https://ausschreibungsradar.com/ausschreibung/24670192/
END:VEVENT
END:VCALENDAR
