BEGIN:VCALENDAR
VERSION:2.0
PRODID:-//AusschreibungsRadar//Timeline//DE
CALSCALE:GREGORIAN
METHOD:PUBLISH
X-WR-CALNAME:Projekt Zimmerer- und Dachdeckerarbeiten
X-WR-TIMEZONE:Europe/Berlin
BEGIN:VEVENT
UID:6ac6049c4802d866@ausschreibungsradar.com
DTSTAMP:20260425T142259Z
DTSTART;VALUE=DATE:20251119
DTEND;VALUE=DATE:20251119
SUMMARY:Ausschreibung — Zimmerer- und Dachdeckerarbeiten
DESCRIPTION:Phase: Ausschreibung | Beschreibung: Offizielle Ausschreibung mit Bieterfrist. | Link: https://ausschreibungsradar.com/ausschreibung/24679364/
URL:https://ausschreibungsradar.com/ausschreibung/24679364/
END:VEVENT
BEGIN:VEVENT
UID:9e3602ac146366da@ausschreibungsradar.com
DTSTAMP:20260425T142259Z
DTSTART;VALUE=DATE:20251119
DTEND;VALUE=DATE:20251119
SUMMARY:Ausschreibung — Zimmerer- und Dachdeckerarbeiten
DESCRIPTION:Phase: Ausschreibung | Beschreibung: Offizielle Ausschreibung mit Bieterfrist. | Link: https://ausschreibungsradar.com/ausschreibung/24679236/
URL:https://ausschreibungsradar.com/ausschreibung/24679236/
END:VEVENT
END:VCALENDAR
