BEGIN:VCALENDAR
VERSION:2.0
PRODID:-//AusschreibungsRadar//Timeline//DE
CALSCALE:GREGORIAN
METHOD:PUBLISH
X-WR-CALNAME:Projekt Sanierung und Erweiterung der Sportanlage am Lessing-Gymnasi
X-WR-TIMEZONE:Europe/Berlin
BEGIN:VEVENT
UID:75b3c7dafe0b9c17@ausschreibungsradar.com
DTSTAMP:20260424T034957Z
DTSTART;VALUE=DATE:20251101
DTEND;VALUE=DATE:20251101
SUMMARY:Ausschreibung — Sanierung und Erweiterung der Sportanlage am Lessing-Gymnasi
DESCRIPTION:Phase: Ausschreibung | Beschreibung: Offizielle Ausschreibung mit Bieterfrist. | Link: https://ausschreibungsradar.com/ausschreibung/51845eab-1868-4449-969b-792352f5d494/
URL:https://ausschreibungsradar.com/ausschreibung/51845eab-1868-4449-969b-792352f5d494/
END:VEVENT
BEGIN:VEVENT
UID:12b7c6776d3a3c2f@ausschreibungsradar.com
DTSTAMP:20260424T034957Z
DTSTART;VALUE=DATE:20251128
DTEND;VALUE=DATE:20251128
SUMMARY:Ausschreibung — Sanierung und Erweiterung der Sportanlage am Lessing-Gymnasi
DESCRIPTION:Phase: Ausschreibung | Beschreibung: Offizielle Ausschreibung mit Bieterfrist. | Link: https://ausschreibungsradar.com/ausschreibung/24711266/
URL:https://ausschreibungsradar.com/ausschreibung/24711266/
END:VEVENT
BEGIN:VEVENT
UID:9da7f497ee3b7466@ausschreibungsradar.com
DTSTAMP:20260424T034957Z
DTSTART;VALUE=DATE:20251128
DTEND;VALUE=DATE:20251128
SUMMARY:Ausschreibung — Sanierung und Erweiterung der Sportanlage am Lessing-Gymnasi
DESCRIPTION:Phase: Ausschreibung | Beschreibung: Offizielle Ausschreibung mit Bieterfrist. | Link: https://ausschreibungsradar.com/ausschreibung/24711262/
URL:https://ausschreibungsradar.com/ausschreibung/24711262/
END:VEVENT
END:VCALENDAR
