BEGIN:VCALENDAR
VERSION:2.0
PRODID:-//AusschreibungsRadar//Timeline//DE
CALSCALE:GREGORIAN
METHOD:PUBLISH
X-WR-CALNAME:Projekt Verkehrssicherung für Vorarbeiten - Ersatzneubau der Brücke 
X-WR-TIMEZONE:Europe/Berlin
BEGIN:VEVENT
UID:16d4081be04798ff@ausschreibungsradar.com
DTSTAMP:20260424T223213Z
DTSTART;VALUE=DATE:20251114
DTEND;VALUE=DATE:20251114
SUMMARY:Ausschreibung — Verkehrssicherung für Vorarbeiten - Ersatzneubau der Brücke 
DESCRIPTION:Phase: Ausschreibung | Beschreibung: Offizielle Ausschreibung mit Bieterfrist. | Link: https://ausschreibungsradar.com/ausschreibung/3e0274aa-ad13-46f8-a620-3bae0d95b0a7/
URL:https://ausschreibungsradar.com/ausschreibung/3e0274aa-ad13-46f8-a620-3bae0d95b0a7/
END:VEVENT
BEGIN:VEVENT
UID:29ca01ae0293e7fa@ausschreibungsradar.com
DTSTAMP:20260424T223213Z
DTSTART;VALUE=DATE:20251202
DTEND;VALUE=DATE:20251202
SUMMARY:Ausschreibung — Verkehrssicherung für Vorarbeiten - Ersatzneubau der Brücke 
DESCRIPTION:Phase: Ausschreibung | Beschreibung: Offizielle Ausschreibung mit Bieterfrist. | Link: https://ausschreibungsradar.com/ausschreibung/24726156/
URL:https://ausschreibungsradar.com/ausschreibung/24726156/
END:VEVENT
END:VCALENDAR
