BEGIN:VCALENDAR
VERSION:2.0
PRODID:-//AusschreibungsRadar//Timeline//DE
CALSCALE:GREGORIAN
METHOD:PUBLISH
X-WR-CALNAME:Projekt Neubau Feuerwehrhaus Ardorf - Blitzschutz
X-WR-TIMEZONE:Europe/Berlin
BEGIN:VEVENT
UID:b763a3d7947b721f@ausschreibungsradar.com
DTSTAMP:20260424T074325Z
DTSTART;VALUE=DATE:20251204
DTEND;VALUE=DATE:20251204
SUMMARY:Ausschreibung — Neubau Feuerwehrhaus Ardorf - Blitzschutz
DESCRIPTION:Phase: Ausschreibung | Beschreibung: Offizielle Ausschreibung mit Bieterfrist. | Link: https://ausschreibungsradar.com/ausschreibung/24736226/
URL:https://ausschreibungsradar.com/ausschreibung/24736226/
END:VEVENT
BEGIN:VEVENT
UID:a8e29f931a0310d5@ausschreibungsradar.com
DTSTAMP:20260424T074325Z
DTSTART;VALUE=DATE:20251204
DTEND;VALUE=DATE:20251204
SUMMARY:Ausschreibung — Neubau Feuerwehrhaus Ardorf - Blitzschutz
DESCRIPTION:Phase: Ausschreibung | Beschreibung: Offizielle Ausschreibung mit Bieterfrist. | Link: https://ausschreibungsradar.com/ausschreibung/24736166/
URL:https://ausschreibungsradar.com/ausschreibung/24736166/
END:VEVENT
BEGIN:VEVENT
UID:183e9e630ebb1365@ausschreibungsradar.com
DTSTAMP:20260424T074325Z
DTSTART;VALUE=DATE:20251204
DTEND;VALUE=DATE:20251204
SUMMARY:Ausschreibung — Neubau Feuerwehrhaus Ardorf - Blitzschutz
DESCRIPTION:Phase: Ausschreibung | Beschreibung: Offizielle Ausschreibung mit Bieterfrist. | Link: https://ausschreibungsradar.com/ausschreibung/24736214/
URL:https://ausschreibungsradar.com/ausschreibung/24736214/
END:VEVENT
BEGIN:VEVENT
UID:6c1a5ed3aee6c643@ausschreibungsradar.com
DTSTAMP:20260424T074325Z
DTSTART;VALUE=DATE:20251204
DTEND;VALUE=DATE:20251204
SUMMARY:Ausschreibung — Neubau Feuerwehrhaus Ardorf - Blitzschutz
DESCRIPTION:Phase: Ausschreibung | Beschreibung: Offizielle Ausschreibung mit Bieterfrist. | Link: https://ausschreibungsradar.com/ausschreibung/24736210/
URL:https://ausschreibungsradar.com/ausschreibung/24736210/
END:VEVENT
BEGIN:VEVENT
UID:fec5e26dce445b4c@ausschreibungsradar.com
DTSTAMP:20260424T074325Z
DTSTART;VALUE=DATE:20251204
DTEND;VALUE=DATE:20251204
SUMMARY:Ausschreibung — Neubau Feuerwehrhaus Ardorf - Blitzschutz
DESCRIPTION:Phase: Ausschreibung | Beschreibung: Offizielle Ausschreibung mit Bieterfrist. | Link: https://ausschreibungsradar.com/ausschreibung/24736218/
URL:https://ausschreibungsradar.com/ausschreibung/24736218/
END:VEVENT
BEGIN:VEVENT
UID:37078a48bb836962@ausschreibungsradar.com
DTSTAMP:20260424T074325Z
DTSTART;VALUE=DATE:20251204
DTEND;VALUE=DATE:20251204
SUMMARY:Ausschreibung — Neubau Feuerwehrhaus Ardorf - Blitzschutz
DESCRIPTION:Phase: Ausschreibung | Beschreibung: Offizielle Ausschreibung mit Bieterfrist. | Link: https://ausschreibungsradar.com/ausschreibung/24736146/
URL:https://ausschreibungsradar.com/ausschreibung/24736146/
END:VEVENT
END:VCALENDAR
