BEGIN:VCALENDAR
VERSION:2.0
PRODID:-//AusschreibungsRadar//Timeline//DE
CALSCALE:GREGORIAN
METHOD:PUBLISH
X-WR-CALNAME:Projekt Baumkontrolle im Bereich der SM Aachen
X-WR-TIMEZONE:Europe/Berlin
BEGIN:VEVENT
UID:24a5178cadf4cd76@ausschreibungsradar.com
DTSTAMP:20260425T233418Z
DTSTART;VALUE=DATE:20251216
DTEND;VALUE=DATE:20251216
SUMMARY:Ausschreibung — Baumkontrolle im Bereich der SM Aachen
DESCRIPTION:Phase: Ausschreibung | Beschreibung: Offizielle Ausschreibung mit Bieterfrist. | Link: https://ausschreibungsradar.com/ausschreibung/24789606/
URL:https://ausschreibungsradar.com/ausschreibung/24789606/
END:VEVENT
BEGIN:VEVENT
UID:7fd64c0a96f9dab9@ausschreibungsradar.com
DTSTAMP:20260425T233418Z
DTSTART;VALUE=DATE:20251217
DTEND;VALUE=DATE:20251217
SUMMARY:Ausschreibung — Baumkontrolle im Bereich der SM Aachen
DESCRIPTION:Phase: Ausschreibung | Beschreibung: Offizielle Ausschreibung mit Bieterfrist. | Link: https://ausschreibungsradar.com/ausschreibung/24796930/
URL:https://ausschreibungsradar.com/ausschreibung/24796930/
END:VEVENT
END:VCALENDAR
