BEGIN:VCALENDAR
VERSION:2.0
PRODID:-//AusschreibungsRadar//Timeline//DE
CALSCALE:GREGORIAN
METHOD:PUBLISH
X-WR-CALNAME:Projekt Baumkontrolle im Bereich der SM Weilerswist
X-WR-TIMEZONE:Europe/Berlin
BEGIN:VEVENT
UID:24a5178cadf4cd76@ausschreibungsradar.com
DTSTAMP:20260424T192038Z
DTSTART;VALUE=DATE:20251216
DTEND;VALUE=DATE:20251216
SUMMARY:Ausschreibung — Baumkontrolle im Bereich der SM Weilerswist
DESCRIPTION:Phase: Ausschreibung | Beschreibung: Offizielle Ausschreibung mit Bieterfrist. | Link: https://ausschreibungsradar.com/ausschreibung/24789606/
URL:https://ausschreibungsradar.com/ausschreibung/24789606/
END:VEVENT
BEGIN:VEVENT
UID:6a443e779397b5bf@ausschreibungsradar.com
DTSTAMP:20260424T192038Z
DTSTART;VALUE=DATE:20251217
DTEND;VALUE=DATE:20251217
SUMMARY:Ausschreibung — Baumkontrolle im Bereich der SM Weilerswist
DESCRIPTION:Phase: Ausschreibung | Beschreibung: Offizielle Ausschreibung mit Bieterfrist. | Link: https://ausschreibungsradar.com/ausschreibung/24796954/
URL:https://ausschreibungsradar.com/ausschreibung/24796954/
END:VEVENT
END:VCALENDAR
