BEGIN:VCALENDAR
VERSION:2.0
PRODID:-//AusschreibungsRadar//Timeline//DE
CALSCALE:GREGORIAN
METHOD:PUBLISH
X-WR-CALNAME:Projekt Neubau Feuerwehr Mögglingen - Außenanlagen GaLa-Bau
X-WR-TIMEZONE:Europe/Berlin
BEGIN:VEVENT
UID:b9373ffe4c364951@ausschreibungsradar.com
DTSTAMP:20260424T090048Z
DTSTART;VALUE=DATE:20251217
DTEND;VALUE=DATE:20251217
SUMMARY:Ausschreibung — Neubau Feuerwehr Mögglingen - Außenanlagen GaLa-Bau
DESCRIPTION:Phase: Ausschreibung | Beschreibung: Offizielle Ausschreibung mit Bieterfrist. | Link: https://ausschreibungsradar.com/ausschreibung/24797468/
URL:https://ausschreibungsradar.com/ausschreibung/24797468/
END:VEVENT
BEGIN:VEVENT
UID:59d6fcde80935c15@ausschreibungsradar.com
DTSTAMP:20260424T090048Z
DTSTART;VALUE=DATE:20251217
DTEND;VALUE=DATE:20251217
SUMMARY:Ausschreibung — Neubau Feuerwehr Mögglingen - Außenanlagen GaLa-Bau
DESCRIPTION:Phase: Ausschreibung | Beschreibung: Offizielle Ausschreibung mit Bieterfrist. | Link: https://ausschreibungsradar.com/ausschreibung/24797460/
URL:https://ausschreibungsradar.com/ausschreibung/24797460/
END:VEVENT
END:VCALENDAR
