BEGIN:VCALENDAR
VERSION:2.0
PRODID:-//AusschreibungsRadar//Timeline//DE
CALSCALE:GREGORIAN
METHOD:PUBLISH
X-WR-CALNAME:Projekt MPI für evolutionäre Anthropologie, Leipzig, Erweiterung Ins
X-WR-TIMEZONE:Europe/Berlin
BEGIN:VEVENT
UID:a25826bdbce486d9@ausschreibungsradar.com
DTSTAMP:20260424T120605Z
DTSTART;VALUE=DATE:20250905
DTEND;VALUE=DATE:20250905
SUMMARY:Angebotsfrist — MPI für evolutionäre Anthropologie\, Leipzig\, Erweiterung Ins
DESCRIPTION:Phase: Ausschreibung | Beschreibung: Angebote werden eingeholt | Link: https://ausschreibungsradar.com/ausschreibung/247ca5d0-2f48-43e2-a730-0acb390975aa/ | Geschätzter Wert: 0 €
URL:https://ausschreibungsradar.com/ausschreibung/247ca5d0-2f48-43e2-a730-0acb390975aa/
END:VEVENT
BEGIN:VEVENT
UID:cf0e50e2446fdd2d@ausschreibungsradar.com
DTSTAMP:20260424T120605Z
DTSTART;VALUE=DATE:20251126
DTEND;VALUE=DATE:20251126
SUMMARY:Vergabeergebnis — MPI für evolutionäre Anthropologie\, Leipzig\, Erweiterung Ins
DESCRIPTION:Phase: Vergabeergebnis | Beschreibung: Auftrag wurde zugeschlagen | Link: https://ausschreibungsradar.com/ausschreibung/c69de371-78d4-4c8b-bf9a-d4835151eda1/ | Geschätzter Wert: 0 €
URL:https://ausschreibungsradar.com/ausschreibung/c69de371-78d4-4c8b-bf9a-d4835151eda1/
END:VEVENT
END:VCALENDAR
