BEGIN:VCALENDAR
VERSION:2.0
PRODID:-//AusschreibungsRadar//Timeline//DE
CALSCALE:GREGORIAN
METHOD:PUBLISH
X-WR-CALNAME:Projekt Errichtung einer Photovoltaikanlage - Feuerwehrgerätehaus He
X-WR-TIMEZONE:Europe/Berlin
BEGIN:VEVENT
UID:175fc486723cd12c@ausschreibungsradar.com
DTSTAMP:20260424T034926Z
DTSTART;VALUE=DATE:20260106
DTEND;VALUE=DATE:20260106
SUMMARY:Ausschreibung — Errichtung einer Photovoltaikanlage - Feuerwehrgerätehaus He
DESCRIPTION:Phase: Ausschreibung | Beschreibung: Offizielle Ausschreibung mit Bieterfrist. | Link: https://ausschreibungsradar.com/ausschreibung/24838816/
URL:https://ausschreibungsradar.com/ausschreibung/24838816/
END:VEVENT
BEGIN:VEVENT
UID:04dbaa375977680c@ausschreibungsradar.com
DTSTAMP:20260424T034926Z
DTSTART;VALUE=DATE:20260106
DTEND;VALUE=DATE:20260106
SUMMARY:Ausschreibung — Errichtung einer Photovoltaikanlage - Feuerwehrgerätehaus He
DESCRIPTION:Phase: Ausschreibung | Beschreibung: Offizielle Ausschreibung mit Bieterfrist. | Link: https://ausschreibungsradar.com/ausschreibung/24838824/
URL:https://ausschreibungsradar.com/ausschreibung/24838824/
END:VEVENT
BEGIN:VEVENT
UID:ee3b4b490209ed7d@ausschreibungsradar.com
DTSTAMP:20260424T034926Z
DTSTART;VALUE=DATE:20260106
DTEND;VALUE=DATE:20260106
SUMMARY:Ausschreibung — Errichtung einer Photovoltaikanlage - Feuerwehrgerätehaus He
DESCRIPTION:Phase: Ausschreibung | Beschreibung: Offizielle Ausschreibung mit Bieterfrist. | Link: https://ausschreibungsradar.com/ausschreibung/24838820/
URL:https://ausschreibungsradar.com/ausschreibung/24838820/
END:VEVENT
END:VCALENDAR
