BEGIN:VCALENDAR
VERSION:2.0
PRODID:-//AusschreibungsRadar//Timeline//DE
CALSCALE:GREGORIAN
METHOD:PUBLISH
X-WR-CALNAME:Projekt BLB DU/Kleve/Staatsanwaltschaft, Ringstr. 13, 47533 Kleve/ E
X-WR-TIMEZONE:Europe/Berlin
BEGIN:VEVENT
UID:840256ceaa75bfde@ausschreibungsradar.com
DTSTAMP:20260423T232946Z
DTSTART;VALUE=DATE:20260109
DTEND;VALUE=DATE:20260109
SUMMARY:Ausschreibung — BLB DU/Kleve/Staatsanwaltschaft\, Ringstr. 13\, 47533 Kleve/ E
DESCRIPTION:Phase: Ausschreibung | Beschreibung: Offizielle Ausschreibung mit Bieterfrist. | Link: https://ausschreibungsradar.com/ausschreibung/24852506/
URL:https://ausschreibungsradar.com/ausschreibung/24852506/
END:VEVENT
BEGIN:VEVENT
UID:a147fc12cb93baf2@ausschreibungsradar.com
DTSTAMP:20260423T232946Z
DTSTART;VALUE=DATE:20260126
DTEND;VALUE=DATE:20260126
SUMMARY:Ausschreibung — BLB DU/Kleve/Staatsanwaltschaft\, Ringstr. 13\, 47533 Kleve/ E
DESCRIPTION:Phase: Ausschreibung | Beschreibung: Offizielle Ausschreibung mit Bieterfrist. | Link: https://ausschreibungsradar.com/ausschreibung/24911994/
URL:https://ausschreibungsradar.com/ausschreibung/24911994/
END:VEVENT
END:VCALENDAR
