BEGIN:VCALENDAR
VERSION:2.0
PRODID:-//AusschreibungsRadar//Timeline//DE
CALSCALE:GREGORIAN
METHOD:PUBLISH
X-WR-CALNAME:Projekt Neubau eines Feuerwehrhaus in 91230 Happurg - Elektroarbeite
X-WR-TIMEZONE:Europe/Berlin
BEGIN:VEVENT
UID:4a5b4a28e8dcc63a@ausschreibungsradar.com
DTSTAMP:20260425T225005Z
DTSTART;VALUE=DATE:20260113
DTEND;VALUE=DATE:20260113
SUMMARY:Ausschreibung — Neubau eines Feuerwehrhaus in 91230 Happurg - Elektroarbeite
DESCRIPTION:Phase: Ausschreibung | Beschreibung: Offizielle Ausschreibung mit Bieterfrist. | Link: https://ausschreibungsradar.com/ausschreibung/24863276/
URL:https://ausschreibungsradar.com/ausschreibung/24863276/
END:VEVENT
BEGIN:VEVENT
UID:9f426fc1bb64b405@ausschreibungsradar.com
DTSTAMP:20260425T225005Z
DTSTART;VALUE=DATE:20260113
DTEND;VALUE=DATE:20260113
SUMMARY:Ausschreibung — Neubau eines Feuerwehrhaus in 91230 Happurg - Elektroarbeite
DESCRIPTION:Phase: Ausschreibung | Beschreibung: Offizielle Ausschreibung mit Bieterfrist. | Link: https://ausschreibungsradar.com/ausschreibung/24863268/
URL:https://ausschreibungsradar.com/ausschreibung/24863268/
END:VEVENT
END:VCALENDAR
