BEGIN:VCALENDAR
VERSION:2.0
PRODID:-//AusschreibungsRadar//Timeline//DE
CALSCALE:GREGORIAN
METHOD:PUBLISH
X-WR-CALNAME:Projekt Los 05 - Elektroarbeiten - Kindergarten Diedorf/Rhön
X-WR-TIMEZONE:Europe/Berlin
BEGIN:VEVENT
UID:64e4e248a10173b2@ausschreibungsradar.com
DTSTAMP:20260424T093011Z
DTSTART;VALUE=DATE:20240611
DTEND;VALUE=DATE:20240611
SUMMARY:Angebotsfrist — Los 05 - Elektroarbeiten - Kindergarten Diedorf/Rhön
DESCRIPTION:Phase: Ausschreibung | Beschreibung: Angebote werden eingeholt | Link: https://ausschreibungsradar.com/ausschreibung/2487cdfc-ce98-441a-be64-4364cf70da27/
URL:https://ausschreibungsradar.com/ausschreibung/2487cdfc-ce98-441a-be64-4364cf70da27/
END:VEVENT
END:VCALENDAR
