BEGIN:VCALENDAR
VERSION:2.0
PRODID:-//AusschreibungsRadar//Timeline//DE
CALSCALE:GREGORIAN
METHOD:PUBLISH
X-WR-CALNAME:Projekt Neubau Feuerwehr Berumerfehn, Gewerk: Putzarbeiten
X-WR-TIMEZONE:Europe/Berlin
BEGIN:VEVENT
UID:d8b9e5033f4a00f6@ausschreibungsradar.com
DTSTAMP:20260424T215056Z
DTSTART;VALUE=DATE:20260120
DTEND;VALUE=DATE:20260120
SUMMARY:Ausschreibung — Neubau Feuerwehr Berumerfehn\, Gewerk: Putzarbeiten
DESCRIPTION:Phase: Ausschreibung | Beschreibung: Offizielle Ausschreibung mit Bieterfrist. | Link: https://ausschreibungsradar.com/ausschreibung/24883808/
URL:https://ausschreibungsradar.com/ausschreibung/24883808/
END:VEVENT
BEGIN:VEVENT
UID:050ac356e081182b@ausschreibungsradar.com
DTSTAMP:20260424T215056Z
DTSTART;VALUE=DATE:20260121
DTEND;VALUE=DATE:20260121
SUMMARY:Ausschreibung — Neubau Feuerwehr Berumerfehn\, Gewerk: Putzarbeiten
DESCRIPTION:Phase: Ausschreibung | Beschreibung: Offizielle Ausschreibung mit Bieterfrist. | Link: https://ausschreibungsradar.com/ausschreibung/24888658/
URL:https://ausschreibungsradar.com/ausschreibung/24888658/
END:VEVENT
END:VCALENDAR
