BEGIN:VCALENDAR
VERSION:2.0
PRODID:-//AusschreibungsRadar//Timeline//DE
CALSCALE:GREGORIAN
METHOD:PUBLISH
X-WR-CALNAME:Projekt Ausführung von Bauleistungen
X-WR-TIMEZONE:Europe/Berlin
BEGIN:VEVENT
UID:03ca47db0b5c9ae9@ausschreibungsradar.com
DTSTAMP:20260426T002107Z
DTSTART;VALUE=DATE:20260120
DTEND;VALUE=DATE:20260120
SUMMARY:Ausschreibung — Ausführung von Bauleistungen
DESCRIPTION:Phase: Ausschreibung | Beschreibung: Offizielle Ausschreibung mit Bieterfrist. | Link: https://ausschreibungsradar.com/ausschreibung/24886382/
URL:https://ausschreibungsradar.com/ausschreibung/24886382/
END:VEVENT
BEGIN:VEVENT
UID:b8d901969ea83a6f@ausschreibungsradar.com
DTSTAMP:20260426T002107Z
DTSTART;VALUE=DATE:20260121
DTEND;VALUE=DATE:20260121
SUMMARY:Ausschreibung — Ausführung von Bauleistungen
DESCRIPTION:Phase: Ausschreibung | Beschreibung: Offizielle Ausschreibung mit Bieterfrist. | Link: https://ausschreibungsradar.com/ausschreibung/24891488/
URL:https://ausschreibungsradar.com/ausschreibung/24891488/
END:VEVENT
END:VCALENDAR
